BEGIN:VCALENDAR
VERSION:2.0
PRODID:-//Muziekvereniging Concordia Joure - ECPv6.15.17//NONSGML v1.0//EN
CALSCALE:GREGORIAN
METHOD:PUBLISH
X-ORIGINAL-URL:https://concordia-joure.nl
X-WR-CALDESC:Evenementen voor Muziekvereniging Concordia Joure
REFRESH-INTERVAL;VALUE=DURATION:PT1H
X-Robots-Tag:noindex
X-PUBLISHED-TTL:PT1H
BEGIN:VTIMEZONE
TZID:Europe/Amsterdam
BEGIN:DAYLIGHT
TZOFFSETFROM:+0100
TZOFFSETTO:+0200
TZNAME:CEST
DTSTART:20230326T010000
END:DAYLIGHT
BEGIN:STANDARD
TZOFFSETFROM:+0200
TZOFFSETTO:+0100
TZNAME:CET
DTSTART:20231029T010000
END:STANDARD
BEGIN:DAYLIGHT
TZOFFSETFROM:+0100
TZOFFSETTO:+0200
TZNAME:CEST
DTSTART:20240331T010000
END:DAYLIGHT
BEGIN:STANDARD
TZOFFSETFROM:+0200
TZOFFSETTO:+0100
TZNAME:CET
DTSTART:20241027T010000
END:STANDARD
BEGIN:DAYLIGHT
TZOFFSETFROM:+0100
TZOFFSETTO:+0200
TZNAME:CEST
DTSTART:20250330T010000
END:DAYLIGHT
BEGIN:STANDARD
TZOFFSETFROM:+0200
TZOFFSETTO:+0100
TZNAME:CET
DTSTART:20251026T010000
END:STANDARD
BEGIN:DAYLIGHT
TZOFFSETFROM:+0100
TZOFFSETTO:+0200
TZNAME:CEST
DTSTART:20260329T010000
END:DAYLIGHT
BEGIN:STANDARD
TZOFFSETFROM:+0200
TZOFFSETTO:+0100
TZNAME:CET
DTSTART:20261025T010000
END:STANDARD
BEGIN:DAYLIGHT
TZOFFSETFROM:+0100
TZOFFSETTO:+0200
TZNAME:CEST
DTSTART:20270328T010000
END:DAYLIGHT
BEGIN:STANDARD
TZOFFSETFROM:+0200
TZOFFSETTO:+0100
TZNAME:CET
DTSTART:20271031T010000
END:STANDARD
END:VTIMEZONE
BEGIN:VEVENT
DTSTART;VALUE=DATE:20260213
DTEND;VALUE=DATE:20260216
DTSTAMP:20260419T184909
CREATED:20251014T113724Z
LAST-MODIFIED:20251014T113841Z
UID:1383-1770940800-1771199999@concordia-joure.nl
SUMMARY:Studieweekend Kollumerpomp
DESCRIPTION:
URL:https://concordia-joure.nl/event/1383/
LOCATION:Natuurlijk Kollumeroord\, Slikweg 2\, Kollumerpomp\, 9293 MJ\, Netherlands
CATEGORIES:A-Orkest
END:VEVENT
BEGIN:VEVENT
DTSTART;TZID=Europe/Amsterdam:20260117T190000
DTEND;TZID=Europe/Amsterdam:20260117T220000
DTSTAMP:20260419T184909
CREATED:20251014T113249Z
LAST-MODIFIED:20251014T114053Z
UID:1378-1768676400-1768687200@concordia-joure.nl
SUMMARY:Concert met Concordia Balk en Excelsior Lemmer
DESCRIPTION:
URL:https://concordia-joure.nl/event/1378/
LOCATION:De Hege Fonnen\, Betelgeuze 2\, Lemmer\, 8531 MV\, Netherlands
CATEGORIES:A-Orkest
END:VEVENT
BEGIN:VEVENT
DTSTART;TZID=Europe/Amsterdam:20251221T200000
DTEND;TZID=Europe/Amsterdam:20251221T213000
DTSTAMP:20260419T184909
CREATED:20251014T112801Z
LAST-MODIFIED:20251014T113940Z
UID:1376-1766347200-1766352600@concordia-joure.nl
SUMMARY:Kerstsamenzang
DESCRIPTION:
URL:https://concordia-joure.nl/event/kerstsamenzang-2/
LOCATION:H. Mattheüs kerk\, Midstraat 110\, Joure\, Friesland\, 8501AV\, Netherlands
CATEGORIES:A-Orkest
END:VEVENT
BEGIN:VEVENT
DTSTART;TZID=Europe/Amsterdam:20251115T193000
DTEND;TZID=Europe/Amsterdam:20251115T220000
DTSTAMP:20260419T184909
CREATED:20250928T202234Z
LAST-MODIFIED:20251014T205206Z
UID:1323-1763235000-1763244000@concordia-joure.nl
SUMMARY:Met muziek de wereld rond
DESCRIPTION:
URL:https://concordia-joure.nl/event/met-muziek-de-wereld-rond/
LOCATION:De Oerdracht\, E.A. Borgerstraat 46\, Joure
CATEGORIES:A-Orkest,B-Orkest
END:VEVENT
BEGIN:VEVENT
DTSTART;VALUE=DATE:20250426
DTEND;VALUE=DATE:20250427
DTSTAMP:20260419T184909
CREATED:20240915T083104Z
LAST-MODIFIED:20251014T114114Z
UID:1106-1745625600-1745711999@concordia-joure.nl
SUMMARY:Koningsdagsconcert
DESCRIPTION:
URL:https://concordia-joure.nl/event/koningsdagconcert/
CATEGORIES:A-Orkest
END:VEVENT
BEGIN:VEVENT
DTSTART;TZID=Europe/Amsterdam:20250214T200000
DTEND;TZID=Europe/Amsterdam:20250214T213000
DTSTAMP:20260419T184909
CREATED:20250112T180912Z
LAST-MODIFIED:20250207T111750Z
UID:1194-1739563200-1739568600@concordia-joure.nl
SUMMARY:Valentijnsconcert
DESCRIPTION:
URL:https://concordia-joure.nl/event/valentijnsconcert/
LOCATION:Hobbe van Baerdt\, Midstraat 67\, Joure
CATEGORIES:A-Orkest
END:VEVENT
BEGIN:VEVENT
DTSTART;TZID=Europe/Amsterdam:20241222T193000
DTEND;TZID=Europe/Amsterdam:20241222T213000
DTSTAMP:20260419T184909
CREATED:20240915T082710Z
LAST-MODIFIED:20240915T082840Z
UID:1103-1734895800-1734903000@concordia-joure.nl
SUMMARY:Kerstsamenzang
DESCRIPTION:
URL:https://concordia-joure.nl/event/kerstsamenzang/
LOCATION:H. Mattheüs kerk\, Midstraat 110\, Joure\, Friesland\, 8501AV\, Netherlands
CATEGORIES:A-Orkest
END:VEVENT
BEGIN:VEVENT
DTSTART;TZID=Europe/Amsterdam:20241124T150000
DTEND;TZID=Europe/Amsterdam:20241124T170000
DTSTAMP:20260419T184909
CREATED:20240915T082500Z
LAST-MODIFIED:20241005T075621Z
UID:1099-1732460400-1732467600@concordia-joure.nl
SUMMARY:Concert Sprookjes en Legendes
DESCRIPTION:
URL:https://concordia-joure.nl/event/concert-sprookjes-en-legendes/
LOCATION:Hobbe van Baerdt\, Midstraat 67\, Joure
CATEGORIES:A-Orkest,B-Orkest
END:VEVENT
BEGIN:VEVENT
DTSTART;VALUE=DATE:20240302
DTEND;VALUE=DATE:20240303
DTSTAMP:20260419T184909
CREATED:20240217T084654Z
LAST-MODIFIED:20240217T084654Z
UID:1035-1709337600-1709423999@concordia-joure.nl
SUMMARY:Potgrondactie
DESCRIPTION:
URL:https://concordia-joure.nl/event/potgrondactie/
LOCATION:Joure\, Joure
CATEGORIES:A-Orkest,B-Orkest
END:VEVENT
END:VCALENDAR